BEGIN:VCALENDAR
VERSION:2.0
PRODID:icalendar-ruby
CALSCALE:GREGORIAN
METHOD:PUBLISH
BEGIN:VEVENT
DTSTAMP:20260422T160843Z
UID:6-236454@rock-island.org
DTSTART:20261101T163000Z
DTEND:20261101T180000Z
CLASS:PUBLIC
CREATED:20260422T104124
DESCRIPTION:
LAST-MODIFIED:20260422T104124
LOCATION:
SUMMARY:Sunday Morning Worship
URL;VALUE=URI:https://www.rock-island.org/events/sunday-morning-worship/202
 6-11-01
END:VEVENT
END:VCALENDAR
