BEGIN:VCALENDAR
VERSION:2.0
PRODID:icalendar-ruby
CALSCALE:GREGORIAN
METHOD:PUBLISH
BEGIN:VEVENT
DTSTAMP:20260422T143340Z
UID:6-236332@rock-island.org
DTSTART:20261025T153000Z
DTEND:20261025T170000Z
CLASS:PUBLIC
CREATED:20260422T074608
DESCRIPTION:
LAST-MODIFIED:20260422T074608
LOCATION:
SUMMARY:Sunday Morning Worship
URL;VALUE=URI:https://www.rock-island.org/events/sunday-morning-worship/202
 6-10-25
END:VEVENT
END:VCALENDAR
