BEGIN:VCALENDAR
VERSION:2.0
PRODID:icalendar-ruby
CALSCALE:GREGORIAN
METHOD:PUBLISH
BEGIN:VEVENT
DTSTAMP:20260422T104206Z
UID:6-236209@rock-island.org
DTSTART:20261011T153000Z
DTEND:20261011T170000Z
CLASS:PUBLIC
CREATED:20260421T203733
DESCRIPTION:
LAST-MODIFIED:20260421T203733
LOCATION:
SUMMARY:Sunday Morning Worship
URL;VALUE=URI:https://www.rock-island.org/events/sunday-morning-worship/202
 6-10-11
END:VEVENT
END:VCALENDAR
