BEGIN:VCALENDAR
VERSION:2.0
PRODID:icalendar-ruby
CALSCALE:GREGORIAN
METHOD:PUBLISH
BEGIN:VEVENT
DTSTAMP:20260421T122040Z
UID:12-220634@rock-island.org
DTSTART:20260424T220000Z
DTEND:20260426T220000Z
CLASS:PUBLIC
CREATED:20260330T105817
DESCRIPTION:Men's Encounter at Webster Conference Center in Salina.\nFor mo
 re information and to register\, please visit:  https://encounterthecross
 .com/men/\n 
LAST-MODIFIED:20260330T105817
LOCATION:
SUMMARY:Men's Encounter
URL;VALUE=URI:https://www.rock-island.org/events/mens-encounter/2026-04-24
ATTACH;FILENAME=Encounter-Event.png;FMTTYPE=image/png:https://dq5pwpg1q8ru0
 .cloudfront.net/2025/12/26/16/13/45/9e72fcf1-59f3-4f15-af82-9ebcf83a5cd6/E
 ncounter-Event.png
END:VEVENT
END:VCALENDAR
