BEGIN:VCALENDAR
VERSION:2.0
PRODID:icalendar-ruby
CALSCALE:GREGORIAN
METHOD:PUBLISH
BEGIN:VEVENT
DTSTAMP:20260422T022413Z
UID:17-236270@rock-island.org
DTSTART:20261018T141500Z
DTEND:20261018T150000Z
CLASS:PUBLIC
CREATED:20260421T203734
DESCRIPTION:
LAST-MODIFIED:20260421T203734
LOCATION:
SUMMARY:Foundations Class
URL;VALUE=URI:https://www.rock-island.org/events/foundations-class/2026-10-
 18
ATTACH;FILENAME=Designer-23.png;FMTTYPE=image/png:https://dq5pwpg1q8ru0.clo
 udfront.net/2026/03/31/14/48/09/ef5ef8d7-962d-4460-bb6f-a1954284074f/Desig
 ner-23.png
END:VEVENT
END:VCALENDAR
