BEGIN:VCALENDAR
VERSION:2.0
PRODID:icalendar-ruby
CALSCALE:GREGORIAN
METHOD:PUBLISH
BEGIN:VEVENT
DTSTAMP:20260421T084612Z
UID:17-235532@rock-island.org
DTSTART:20260809T141500Z
DTEND:20260809T150000Z
CLASS:PUBLIC
CREATED:20260420T202131
DESCRIPTION:
LAST-MODIFIED:20260420T202131
LOCATION:
SUMMARY:Foundations Class
URL;VALUE=URI:https://www.rock-island.org/events/foundations-class/2026-08-
 09
ATTACH;FILENAME=Designer-23.png;FMTTYPE=image/png:https://dq5pwpg1q8ru0.clo
 udfront.net/2026/03/31/14/48/09/ef5ef8d7-962d-4460-bb6f-a1954284074f/Desig
 ner-23.png
END:VEVENT
END:VCALENDAR
